View In:
ArcGIS JavaScript
ArcGIS Online Map Viewer
ArcGIS Earth
Service Description: AGFC/AGFC_Ecological_Mapping_System
Name: AGFC/AGFC_Ecological_Mapping_System
Description:
Single Fused Map Cache: false
Extent:
XMin: 342009.99999907496
YMin: 3637179.999891432
XMax: 817659.999999075
YMax: 4057869.999891432
Spatial Reference: 26915
(26915)
LatestVCSWkid(0)
Initial Extent:
XMin: 342009.99999907496
YMin: 3637179.999891432
XMax: 817659.999999075
YMax: 4057869.999891432
Spatial Reference: 26915
(26915)
LatestVCSWkid(0)
Full Extent:
XMin: 342009.99999907496
YMin: 3637179.999891432
XMax: 817659.999999075
YMax: 4057869.999891432
Spatial Reference: 26915
(26915)
LatestVCSWkid(0)
Pixel Size X: 10.0
Pixel Size Y: 10.0
Band Count: 1
Pixel Type: U8
RasterFunction Infos: {"rasterFunctionInfos": [{
"name": "None",
"description": "",
"help": ""
}]}
Mensuration Capabilities: Basic
Inspection Capabilities:
Has Histograms: true
Has Colormap: false
Has Multi Dimensions : false
Rendering Rule:
Min Scale: 0
Max Scale: 0
Copyright Text:
Service Data Type: esriImageServiceDataTypeThematic
Min Values: 2
Max Values: 225
Mean Values: 65.239286359197
Standard Deviation Values: 35.924055447302
Object ID Field:
Fields:
None
Default Mosaic Method: Center
Allowed Mosaic Methods:
SortField:
SortValue: null
Mosaic Operator: First
Default Compression Quality: 95
Default Resampling Method: Nearest
Max Record Count: null
Max Image Height: 4100
Max Image Width: 15000
Max Download Image Count: null
Max Mosaic Image Count: null
Allow Raster Function: true
Allow Copy: true
Allow Analysis: true
Allow Compute TiePoints: false
Supports Statistics: false
Supports Advanced Queries: false
Use StandardizedQueries: true
Raster Type Infos:
Name: Raster Dataset
Description: Supports all ArcGIS Raster Datasets
Help:
Has Raster Attribute Table: true
Edit Fields Info: null
Ownership Based AccessControl For Rasters: null
Child Resources:
Info
Raster Attribute Table
Histograms
Statistics
Key Properties
Legend
Raster Function Infos
Supported Operations:
Export Image
Identify
Measure
Compute Histograms
Compute Statistics Histograms
Get Samples
Compute Class Statistics
Query Boundary
Compute Pixel Location
Compute Angles
Validate
Project