View In:
ArcGIS JavaScript
ArcGIS Online Map Viewer
ArcGIS Earth
Service Description: ImageServices/DEM_HALF_METER_2026
Name: ImageServices/DEM_HALF_METER_2026
Description:
Single Fused Map Cache: false
Extent:
XMin: 355000.0
YMin: 3652000.0
XMax: 803000.0
YMax: 4043000.0
Spatial Reference: 102384
(6344)
LatestVCSWkid(0)
Initial Extent:
XMin: 355000.0
YMin: 3652000.0
XMax: 803000.0
YMax: 4043000.0
Spatial Reference: 102384
(6344)
LatestVCSWkid(0)
Full Extent:
XMin: 355000.0
YMin: 3652000.0
XMax: 803000.0
YMax: 4043000.0
Spatial Reference: 102384
(6344)
LatestVCSWkid(0)
Pixel Size X: 0.5
Pixel Size Y: 0.5
Band Count: 1
Pixel Type: F32
RasterFunction Infos: {"rasterFunctionInfos": [
{
"name": "None",
"description": "Make a Raster or Raster Dataset into a Function Raster Dataset.",
"help": ""
},
{
"name": "aspect",
"description": "A raster function template.",
"help": ""
},
{
"name": "contour1OTF",
"description": "Contour lines created on-the-fly from DEM (based on new LiDAR data) using a raster function template. Contour interval is 1ft.",
"help": ""
},
{
"name": "contour2OTF",
"description": "Contour lines created on-the-fly from DEM (based on new LiDAR data) using a raster function template. Contour interval is 2ft.",
"help": ""
},
{
"name": "contour4OTF",
"description": "Contour lines created on-the-fly from DEM (based on new LiDAR data) using a raster function template. Contour interval is 4ft.",
"help": ""
},
{
"name": "contour20OTF",
"description": "Contour lines created on-the-fly from DEM (based on new LiDAR data) using a raster function template. Contour interval is 20ft.",
"help": ""
},
{
"name": "contour100OTF",
"description": "Contour lines created on-the-fly from DEM (based on new LiDAR data) using a raster function template. Contour interval is 100ft.",
"help": ""
},
{
"name": "hillshade",
"description": "A raster function template.",
"help": ""
},
{
"name": "shaded_elevation_20170418",
"description": "A raster function template.",
"help": ""
},
{
"name": "shaded_relief",
"description": "A raster function template.",
"help": ""
},
{
"name": "slope",
"description": "A raster function template.",
"help": ""
}
]}
Mensuration Capabilities: Basic
Inspection Capabilities:
Has Histograms: true
Has Colormap: false
Has Multi Dimensions : false
Rendering Rule:
Min Scale: 0
Max Scale: 0
Copyright Text:
Service Data Type: esriImageServiceDataTypeGeneric
Min Values: 19.670000076293945
Max Values: 751.914794921875
Mean Values: 152.7757751353646
Standard Deviation Values: 135.1740881774865
Object ID Field: OBJECTID
Fields:
-
OBJECTID
(
type: esriFieldTypeOID, alias: OBJECTID
)
-
Shape
(
type: esriFieldTypeGeometry, alias: Shape
)
-
Name
(
type: esriFieldTypeString, alias: Name, length: 200
)
-
MinPS
(
type: esriFieldTypeDouble, alias: MinPS
)
-
MaxPS
(
type: esriFieldTypeDouble, alias: MaxPS
)
-
LowPS
(
type: esriFieldTypeDouble, alias: LowPS
)
-
HighPS
(
type: esriFieldTypeDouble, alias: HighPS
)
-
Category
(
type: esriFieldTypeInteger, alias: Category
, Coded Values:
[0: Unknown]
, [1: Primary]
, [2: Overview]
, ...6 more...
)
-
Tag
(
type: esriFieldTypeString, alias: Tag, length: 100
)
-
GroupName
(
type: esriFieldTypeString, alias: GroupName, length: 100
)
-
ProductName
(
type: esriFieldTypeString, alias: ProductName, length: 100
)
-
CenterX
(
type: esriFieldTypeDouble, alias: CenterX
)
-
CenterY
(
type: esriFieldTypeDouble, alias: CenterY
)
-
ZOrder
(
type: esriFieldTypeInteger, alias: ZOrder
)
-
Shape_Length
(
type: esriFieldTypeDouble, alias: Shape_Length
)
-
Shape_Area
(
type: esriFieldTypeDouble, alias: Shape_Area
)
Default Mosaic Method: Northwest
Allowed Mosaic Methods: NorthWest,Center,LockRaster,ByAttribute,Nadir,Viewpoint,Seamline,None
SortField:
SortValue: null
Mosaic Operator: First
Default Compression Quality: 75
Default Resampling Method: Bilinear
Max Record Count: 1000
Max Image Height: 4100
Max Image Width: 15000
Max Download Image Count: 20
Max Mosaic Image Count: 20
Allow Raster Function: true
Allow Copy: true
Allow Analysis: true
Allow Compute TiePoints: false
Supports Statistics: true
Supports Advanced Queries: true
Use StandardizedQueries: true
Raster Type Infos:
Name: Raster Dataset
Description: Supports all ArcGIS Raster Datasets
Help:
Has Raster Attribute Table: false
Edit Fields Info: null
Ownership Based AccessControl For Rasters: null
Child Resources:
Info
Histograms
Statistics
Key Properties
Legend
Raster Function Infos
Supported Operations:
Export Image
Query
Identify
Measure
Compute Histograms
Compute Statistics Histograms
Get Samples
Compute Class Statistics
Query GPS Info
Find Images
Image to Map
Map to Image
Measure from Image
Image to Map Multiray
Query Boundary
Compute Pixel Location
Compute Angles
Validate
Project